BEGIN:VCALENDAR
VERSION:2.0
PRODID:-//ChamberMaster//Event Calendar 2.0//EN
METHOD:PUBLISH
X-PUBLISHED-TTL:P3D
REFRESH-INTERVAL:P3D
CALSCALE:GREGORIAN
BEGIN:VEVENT
DTSTART:20220728T173000Z
DTEND:20220728T183000Z
X-MICROSOFT-CDO-ALLDAYEVENT:FALSE
SUMMARY:Written Policy on Disconnecting from Work
DESCRIPTION:Hosted by:  Ministry of Labour\, Training & Skills Development\n\n \nAbout this event\n\n\n\n\nOn December 2\, 2021\, the Working for Workers Act\, 2021 received Royal Assent. As a result\, some employers are required by the Employment Standards Act\, 2000 to have a written policy on disconnecting from work. To help employees and employers\, the Ministry of Labour\, Training and Skills Development is hosting an online information session that will provide you information on the requirements. The session will be delivered by a subject-matter expert from the ministry who will:\n\n\n	provide an overview of the rules\n	identify key deadlines\, and\n	answer your questions about the requirements (time permitting)\n\n\nJoin us on Thursday\, July 28\, 2022 at 1:30 p.m. to learn more about your workplace rights and obligations.
X-ALT-DESC;FMTTYPE=text/html:Hosted by:&nbsp\;&nbsp\;<a classname="listing-organizer-name text-default" href="https://www.eventbrite.ca/o/ministry-of-labour-training-amp-skills-development-16707508583" id="organizer-link-org-panel" rel="noreferrer" style="text-decoration-line: none\; color: var(--eds-control\,#3659e3)\; cursor: pointer\; background-color: rgba(255\, 255\, 255\, 0.9)\; font-family: &quot\;Neue Plak&quot\;\, -apple-system\, BlinkMacSystemFont\, Roboto\, &quot\;Helvetica Neue&quot\;\, Helvetica\, Tahoma\, Arial\, sans-serif\; font-size: 14.9333px\; letter-spacing: 0.5px\;" target="_blank">Ministry of Labour\, Training &amp\; Skills Development</a><br />\n&nbsp\;\n<h2 class="eds-text-bl eds-l-mar-bot-4" style="margin: 0px -0.25px 16px 0px\; padding: 0px\; text-rendering: optimizelegibility\; font-size: 1.125rem\; line-height: 1.5rem\; letter-spacing: 0.25px\; font-weight: 600\; color: rgb(57\, 54\, 79)\; font-family: &quot\;Neue Plak&quot\;\, -apple-system\, BlinkMacSystemFont\, Roboto\, &quot\;Helvetica Neue&quot\;\, Helvetica\, Tahoma\, Arial\, sans-serif\;">About this event</h2>\n\n<div class="has-user-generated-content" style="margin: 0px\; padding: 0px\; color: rgb(57\, 54\, 79)\; font-family: &quot\;Neue Plak&quot\;\, -apple-system\, BlinkMacSystemFont\, Roboto\, &quot\;Helvetica Neue&quot\;\, Helvetica\, Tahoma\, Arial\, sans-serif\; font-size: 14.9333px\; letter-spacing: 0.5px\;">\n<div class="eds-l-mar-vert-6 eds-l-sm-mar-vert-4 eds-text-bm structured-content-rich-text" style="margin: 24px 0px\; padding: 0px\; text-rendering: optimizelegibility\; font-size: 0.875rem\; line-height: 1.25rem\;">\n<div class="eds-text--left" style="margin: 0px\; padding: 0px\;">\n<p style="margin: 0px\; padding: 0px\; color: rgb(111\, 114\, 135)\; font-size: 16px\; line-height: 1.5rem\;">On December 2\, 2021\, the Working for Workers Act\, 2021 received Royal Assent. As a result\, some employers are required by the Employment Standards Act\, 2000 to have a written policy on disconnecting from work. To help employees and employers\, the Ministry of Labour\, Training and Skills Development is hosting an online information session that will provide you information on the requirements. The session will be delivered by a subject-matter expert from the ministry who will:</p>\n\n<ul style="margin: 0px\; padding-top: 10px\; padding-right: 0px\; padding-left: 2em\; list-style-position: initial\; list-style-image: initial\; color: rgb(111\, 114\, 135)\; font-size: 16px\; line-height: 1.5rem\;">\n	<li style="margin: 0px\; padding: 0px\;">provide an overview of the rules</li>\n	<li style="margin: 0px\; padding: 5px 0px 0px\;">identify key deadlines\, and</li>\n	<li style="margin: 0px\; padding: 5px 0px 0px\;">answer your questions about the requirements (time permitting)</li>\n</ul>\n\n<p style="margin: 0px\; padding: 10px 0px 0px\; color: rgb(111\, 114\, 135)\; font-size: 16px\; line-height: 1.5rem\;">Join us on Thursday\, July 28\, 2022 at 1:30 p.m. to learn more about your workplace rights and obligations.</p>\n</div>\n</div>\n</div>\n
LOCATION:
UID:e.3459.515
SEQUENCE:3
DTSTAMP:20260423T024955Z
URL:http://w.stouffvillechamber.ca/events/details/written-policy-on-disconnecting-from-work-515
END:VEVENT

END:VCALENDAR
